BEGIN:VCALENDAR
VERSION:2.0
PRODID:-//Squarespace Inc/Squarespace 6//v6//EN
BEGIN:VEVENT
UID:5e1814210b6fd332a47231b0@squarespace.com
DTSTAMP:20200115T225846Z
DTSTART:20200110T063000Z
DTEND:20200117T093000Z
SUMMARY:Bushfire Fundraising Dinner
GEO:-37.830369;144.979606
LOCATION:Jardin Tan\, Royal Botanic Gardens\, Birdwood Avenue\, Melbourne\, 
 VIC\, 3004\, Australia
END:VEVENT
END:VCALENDAR
