BEGIN:VCALENDAR
VERSION:2.0
PRODID:-//Squarespace Inc/Squarespace 6//v6//EN
BEGIN:VEVENT
UID:5e00498b4328177cde56e8d9@squarespace.com
DTSTAMP:20191223T050306Z
DTSTART:20191224T130100Z
DTEND:20191225T120000Z
SUMMARY:Closed Christmas Day
END:VEVENT
END:VCALENDAR
