BEGIN:VCALENDAR
VERSION:2.0
PRODID:-//Squarespace Inc/Squarespace 6//v6//EN
BEGIN:VEVENT
UID:5da55cdef67f2217cb34d11b@squarespace.com
DTSTAMP:20191016T060829Z
DTSTART:20191207T210000Z
DTEND:20191208T070000Z
SUMMARY:Jardin Tan - Closed All Day
END:VEVENT
END:VCALENDAR
