BEGIN:VCALENDAR
VERSION:2.0
PRODID:-//Squarespace Inc/Squarespace 6//v6//EN
BEGIN:VEVENT
UID:5d8c425a0675282db89506e7@squarespace.com
DTSTAMP:20191008T032150Z
DTSTART:20191018T070000Z
DTEND:20191018T113000Z
SUMMARY:Vegan Night
END:VEVENT
END:VCALENDAR
